BEGIN:VCALENDAR
VERSION:2.0
PRODID:-//Bharuna Bhakti Utama - ECPv5.14.0.3//NONSGML v1.0//EN
CALSCALE:GREGORIAN
METHOD:PUBLISH
X-WR-CALNAME:Bharuna Bhakti Utama
X-ORIGINAL-URL:https://bharunabhaktiutama.com
X-WR-CALDESC:Events for Bharuna Bhakti Utama
REFRESH-INTERVAL;VALUE=DURATION:PT1H
X-Robots-Tag:noindex
X-PUBLISHED-TTL:PT1H
BEGIN:VTIMEZONE
TZID:Asia/Krasnoyarsk
BEGIN:STANDARD
TZOFFSETFROM:+0700
TZOFFSETTO:+0700
TZNAME:+07
DTSTART:20220101T000000
END:STANDARD
END:VTIMEZONE
BEGIN:VEVENT
DTSTART;TZID=Asia/Krasnoyarsk:20220817T080000
DTEND;TZID=Asia/Krasnoyarsk:20220817T170000
DTSTAMP:20260423T175804
CREATED:20220817T064714Z
LAST-MODIFIED:20220817T064714Z
UID:2733-1660723200-1660755600@bharunabhaktiutama.com
SUMMARY:DIRGAHAYU REPUBLIK INDONESIA KE 77
DESCRIPTION:Kami Segenap Keluarga Besar Lemdik REOR ” BHARUNA BHAKTI UTAMA” \,\, \nmengucapkan : \nDirgahayu REPUBLIK INDONESIA KE 77 \n” PULIH LEBIH CEPAT – BANGKIT LEBIH KUAT “
URL:https://bharunabhaktiutama.com/detail-agenda/dirgahayu-republik-indonesia-ke-77/
END:VEVENT
BEGIN:VEVENT
DTSTART;TZID=Asia/Krasnoyarsk:20220427T113000
DTEND;TZID=Asia/Krasnoyarsk:20220508T233000
DTSTAMP:20260423T175804
CREATED:20220427T041839Z
LAST-MODIFIED:20220427T052426Z
UID:2424-1651059000-1652052600@bharunabhaktiutama.com
SUMMARY:Libur Hari Raya Idul Fitri 1443 Hijriah 2022
DESCRIPTION:Dalam rangka menyambut Hari Raya Idul Fitri 1443 H\,  Maka seluruh kegiatan lemdik REOR Bharuna Bhakti Utama  DI LIBURKAN\, Mulai tanggal 29-04-2022 dan AKTIF kembali pada tanggal 09-05-2022..
URL:https://bharunabhaktiutama.com/detail-agenda/libur-hari-raya-idul-fitri-1443-hijriah-2022/
ATTACH;FMTTYPE=image/jpeg:https://bharunabhaktiutama.com/wp-content/uploads/2022/04/REVISI-2-NEW-scaled.jpg
END:VEVENT
BEGIN:VEVENT
DTSTART;TZID=Asia/Krasnoyarsk:20220317T073000
DTEND;TZID=Asia/Krasnoyarsk:20220319T170000
DTSTAMP:20260423T175804
CREATED:20220309T132005Z
LAST-MODIFIED:20220309T132005Z
UID:1154-1647502200-1647709200@bharunabhaktiutama.com
SUMMARY:UJIAN NEGARA REOR LEMDIK BHARUNA BHAKTI UTAMA SURABAYA
DESCRIPTION:
URL:https://bharunabhaktiutama.com/detail-agenda/ujian-negara-reor-lemdik-bharuna-bhakti-utama-surabaya/
END:VEVENT
BEGIN:VEVENT
DTSTART;VALUE=DATE:20220301
DTEND;VALUE=DATE:20220302
DTSTAMP:20260423T175804
CREATED:20220227T124649Z
LAST-MODIFIED:20220227T130755Z
UID:1031-1646092800-1646179199@bharunabhaktiutama.com
SUMMARY:Launching Website Official Bharuna Bhakti Utama
DESCRIPTION:
URL:https://bharunabhaktiutama.com/detail-agenda/launching-website-official-bharuna-bhakti-utama/
LOCATION:Gedung Bharuna Bhakti Utama\, Jl. Kutisari VI No.22\, Surabaya\, Jawa Timur\, 60291\, Indonesia
ATTACH;FMTTYPE=image/jpeg:https://bharunabhaktiutama.com/wp-content/uploads/2022/02/Beranda-Website-Bharuna-Bhakti-Utama-square.jpg
ORGANIZER;CN="JP-Development":MAILTO:jemmyap91@gmail.com
END:VEVENT
END:VCALENDAR