BEGIN:VCALENDAR
VERSION:2.0
PRODID:-//Bharuna Bhakti Utama - ECPv5.14.0.3//NONSGML v1.0//EN
CALSCALE:GREGORIAN
METHOD:PUBLISH
X-WR-CALNAME:Bharuna Bhakti Utama
X-ORIGINAL-URL:https://bharunabhaktiutama.com
X-WR-CALDESC:Events for Bharuna Bhakti Utama
REFRESH-INTERVAL;VALUE=DURATION:PT1H
X-Robots-Tag:noindex
X-PUBLISHED-TTL:PT1H
BEGIN:VTIMEZONE
TZID:Asia/Krasnoyarsk
BEGIN:STANDARD
TZOFFSETFROM:+0700
TZOFFSETTO:+0700
TZNAME:+07
DTSTART:20220101T000000
END:STANDARD
END:VTIMEZONE
BEGIN:VEVENT
DTSTART;VALUE=DATE:20221220
DTEND;VALUE=DATE:20221221
DTSTAMP:20260423T173813
CREATED:20221220T122031Z
LAST-MODIFIED:20221226T071541Z
UID:3012-1671494400-1671580799@bharunabhaktiutama.com
SUMMARY:Dirgahayu 14 Tahun LKP Bharuna Bhakti Utama
DESCRIPTION:Dirgahayu 14 Tahun LKP Bharuna Bhakti Utama\n“Semoga menjadi  lebih berkembang dan Maju Terus\,Serta Dapat mencetak para Lulusan yang berkualitas dan bermanfaat dalam dunia Kerja…. Jaya terus LKP Bharuna Bhakti Utama”
URL:https://bharunabhaktiutama.com/detail-agenda/dirgahayu-14-tahun-lkp-bharuna-bhakti-utama/
END:VEVENT
BEGIN:VEVENT
DTSTART;VALUE=DATE:20221226
DTEND;VALUE=DATE:20221227
DTSTAMP:20260423T173813
CREATED:20221226T070045Z
LAST-MODIFIED:20221226T071930Z
UID:3021-1672012800-1672099199@bharunabhaktiutama.com
SUMMARY:PENGUMUMAN LIBUR TAHUN BARU 2023
DESCRIPTION:
URL:https://bharunabhaktiutama.com/detail-agenda/libur-tahun-baru-2023/
ATTACH;FMTTYPE=image/jpeg:https://bharunabhaktiutama.com/wp-content/uploads/2022/12/PENGUMUMAN-TTD.jpg
END:VEVENT
BEGIN:VEVENT
DTSTART;VALUE=DATE:20230421
DTEND;VALUE=DATE:20230422
DTSTAMP:20260423T173813
CREATED:20230404T022050Z
LAST-MODIFIED:20230503T022845Z
UID:3164-1682035200-1682121599@bharunabhaktiutama.com
SUMMARY:Hari Kartini
DESCRIPTION:Selamat Hari Kartini 21 April 2023 \n“Selamat Hari Kartini untuk seluruh wanita Indonesia. Bermimpilah setinggi langit dan jagalah selalu semangat Kartini di hatimu.”
URL:https://bharunabhaktiutama.com/detail-agenda/hari-kartini/
END:VEVENT
END:VCALENDAR