BEGIN:VCALENDAR
VERSION:2.0
PRODID:-//Bharuna Bhakti Utama - ECPv5.14.0.3//NONSGML v1.0//EN
CALSCALE:GREGORIAN
METHOD:PUBLISH
X-WR-CALNAME:Bharuna Bhakti Utama
X-ORIGINAL-URL:https://bharunabhaktiutama.com
X-WR-CALDESC:Events for Bharuna Bhakti Utama
REFRESH-INTERVAL;VALUE=DURATION:PT1H
X-Robots-Tag:noindex
X-PUBLISHED-TTL:PT1H
BEGIN:VTIMEZONE
TZID:Asia/Krasnoyarsk
BEGIN:STANDARD
TZOFFSETFROM:+0700
TZOFFSETTO:+0700
TZNAME:+07
DTSTART:20230101T000000
END:STANDARD
END:VTIMEZONE
BEGIN:VEVENT
DTSTART;VALUE=DATE:20230421
DTEND;VALUE=DATE:20230422
DTSTAMP:20260423T051234
CREATED:20230404T022050Z
LAST-MODIFIED:20230503T022845Z
UID:3164-1682035200-1682121599@bharunabhaktiutama.com
SUMMARY:Hari Kartini
DESCRIPTION:Selamat Hari Kartini 21 April 2023 \n“Selamat Hari Kartini untuk seluruh wanita Indonesia. Bermimpilah setinggi langit dan jagalah selalu semangat Kartini di hatimu.”
URL:https://bharunabhaktiutama.com/detail-agenda/hari-kartini/
END:VEVENT
END:VCALENDAR